BEGIN:VCALENDAR
VERSION:2.0
PRODID:-//wp-events-plugin.com//7.2.3.1//EN
BEGIN:VEVENT
UID:205@kranio.eu
DTSTART:20260421T160000Z
DTEND:20260421T180000Z
DTSTAMP:20260405T150903Z
URL:https://www.kranio.eu/akce/prvni-dny-zivota-kojeni/
SUMMARY:PRVNÍ DNY ŽIVOTA - KOJENÍ
DESCRIPTION:\n\n\n\n\n\n\nDOJČENIE JE  NAJPRIRODZENĚJŠÍ SPÓSOB ZAČÁ
 TKU ŽIVOTA\,\nUMOŽŇUJÚCÍ ROZVINÚT PLNÝ POTENCIÁL DIEŤATA\n\n\n\n\
 n\n\n\n\n\n\n\n\n\nDieťa- človek prichádza na tento svet s určitým na
 stavením\, poslaním\,  so svojim vlastným potenciálom a ten má schop
 nosť sa naplno rozvinúť len v prirodzených podmienkach. Dojčenie je
  najprirodzenejší spôsob\, ako je možné toto  dosiahnuť.\n\nNech n
 ám všetkým na tomto záleží a nech všetci kraniosakrálni terapeuti 
 vedia o tom\, že svojou prácou\, svojou schopnosťou vnímania na inej 
 úrovni dokážu ovplyvniť život človeka už na začiatku jeho cesty na
  tomto svete – kedy je najviac zraniteľný\, ale zároveň najviac pot
 rebuje porozumenie bez slov.Už len samotná situácia\, že sa dieťa ned
 ojčí\, neprisáva\, nepije dostatok mlieka\, kedy musíme dokrmovať fo
 rmulou\, nám potvrdzuje\, že kdesi na ceste jeho príchodu na svet nasta
 ly určité nefyziologické procesy\, ktoré neblaho zasahujú jeho ďalš
 í vývin.\n\n\n\n\n\n\n\n\n\n\n\n\n\nPráca s malinkými bábätkami vy
 žaduje jemnosť\, citlivosť\, vnímavosť k jeho telíčku a tu je prá
 ca kraniosakrálneho terapeuta jedinečná a nenahraditeľná. V mnohých 
 prípadoch je vhodnejšia\, ako tvrdšie fyzioterapeutické postupy\, ktor
 é tak často pri svojej práci vídam.\n\nKraniosakrálna terapia je met
 óda\, ktorú využívam pri každom jednom dieťati\, ktorému pomáham 
 dostať sa späť na miesto\, na ktoré patrí. Na prsník matky. Účinky
  KST sú obojstranné\, znamená pri jej použití tesne po pôrode pri pr
 oblémoch s dojčením nám pomáha navrátiť sa k prirodzenosti.I u prir
 odzene dojčeného dieťaťa\, čo je prírodou nastavená norma k zdravé
 mu vývinu dieťaťa\, kraniosakralní terapií výrazne znižujeme rizi
 ko následných civilizačných ochorení\, reštrikciíí vo vývoji nerv
 ovej sústavy a mozgu a  psychických tráum\, ktoré môžu vznikať ne
 dostatočnou väzbou na matku.\n\n\n\n\n\n\n\n\n\n\n\n\nMVDr. Jana Mekyňo
 vá\n\n\n\n\n\nVolám sa Jana Mekyňová\, som vyštudovaná veterinárna 
 lekárka . Pred 17 rokmi som začínala ako laktačná konzultantka\, v č
 om pokračujem aj dodnes\, avšak s dôležitou súčasťou využivania kr
 aniosakrálnej terapie. Počas tohto obdobia som sprevádzala tisícky ž
 ien a detí s najčastejšími problémami ako neprisávanie detí a  ne
 dostatok mlieka u matiek.\n\nVo svojej práci som využívala postupy lakt
 ačnej medicíny\, ktoré boli mechanické\, zamerané na konkrétny výsl
 edok. Čím dlhšie som pracovala\, tým viac som si všímala potrebu vn
 ímania dieťaťa a maminy ako bytostí\, ktoré prešli náročným obdob
 ím tehotenstva\, pôrodu a popôrodnej starostlivosti\, ktorá je často 
 traumatizujúca\, nerešpektujúca fyziologické procesy. Toto všetko vp
 lýva na zdravý vývoj dieťaťa a rekonvalescenciu matky po pôrode.\n\n
 Každoročne sa zúčastňujem zahraničných laktačných konferencii\, n
 a ktorých sa kraniosakrálna terapia využíva ako hlavný nástroj pri p
 omoci matkám a deťom s dojčením. Po absolvovaní výcviku u Hanky Cho
 cholatej sa môj spôsob práce zmenil.\n\nPri každom jednom dieťati vy
 užívam KST spojenú s laktačnou medicínou\, pričom dôraz kladiem na 
 dieťa\, jeho pôrodné traumy\, asymetrie\, postúru tela s následným v
 yužitím KST\, ktorá je odporúčaná u malých bábätiek a ich mám na
  navodenie zdravia a ich vzájomného opätovného pripútania.\n\n\n\n\n\
 n\nPřihlásit se můžete zde 
ATTACH;FMTTYPE=image/jpeg:https://www.kranio.eu/wp-content/uploads/2026/03
 /tematicke-setkani-jana-mekynova-balsamina-duben-2026-2-rkm08xwmi8k597c66g
 v064jogscx5wj8qkvzitgqjc-e1775401615619.jpg
CATEGORIES:Tématické setkání
LOCATION:Centrum Balsamina\, Sokolovská 406\,\, Kopřivnice\, 74221\, Čes
 ká republika
GEO:49.596411;18.145011
X-APPLE-STRUCTURED-LOCATION;VALUE=URI;X-ADDRESS=Sokolovská 406\,\, Kopřiv
 nice\, 74221\, Česká republika;X-APPLE-RADIUS=100;X-TITLE=Centrum Balsam
 ina:geo:49.596411,18.145011
END:VEVENT
END:VCALENDAR